BEGIN:VCALENDAR
VERSION:2.0
PRODID:-//Deutsche Cichliden-Gesellschaft e. V. - ECPv6.15.20//NONSGML v1.0//EN
CALSCALE:GREGORIAN
METHOD:PUBLISH
X-WR-CALNAME:Deutsche Cichliden-Gesellschaft e. V.
X-ORIGINAL-URL:https://dcg-online.de
X-WR-CALDESC:Veranstaltungen für Deutsche Cichliden-Gesellschaft e. V.
REFRESH-INTERVAL;VALUE=DURATION:PT1H
X-Robots-Tag:noindex
X-PUBLISHED-TTL:PT1H
BEGIN:VTIMEZONE
TZID:Europe/Berlin
BEGIN:DAYLIGHT
TZOFFSETFROM:+0100
TZOFFSETTO:+0200
TZNAME:CEST
DTSTART:20250330T010000
END:DAYLIGHT
BEGIN:STANDARD
TZOFFSETFROM:+0200
TZOFFSETTO:+0100
TZNAME:CET
DTSTART:20251026T010000
END:STANDARD
BEGIN:DAYLIGHT
TZOFFSETFROM:+0100
TZOFFSETTO:+0200
TZNAME:CEST
DTSTART:20260329T010000
END:DAYLIGHT
BEGIN:STANDARD
TZOFFSETFROM:+0200
TZOFFSETTO:+0100
TZNAME:CET
DTSTART:20261025T010000
END:STANDARD
BEGIN:DAYLIGHT
TZOFFSETFROM:+0100
TZOFFSETTO:+0200
TZNAME:CEST
DTSTART:20270328T010000
END:DAYLIGHT
BEGIN:STANDARD
TZOFFSETFROM:+0200
TZOFFSETTO:+0100
TZNAME:CET
DTSTART:20271031T010000
END:STANDARD
END:VTIMEZONE
BEGIN:VEVENT
DTSTART;TZID=Europe/Berlin:20260422T193000
DTEND;TZID=Europe/Berlin:20260422T210000
DTSTAMP:20260424T105510
CREATED:20260315T173711Z
LAST-MODIFIED:20260317T145456Z
UID:8067-1776886200-1776891600@dcg-online.de
SUMMARY:DCG Cichlidenstammtisch mit einem Vortrag von Tobias Dejon: "Peru 2025 - Eine aquaristische Reise zwischen Regenwaldflüssen und Anden"
DESCRIPTION:Tobias war einer der glücklichen\, der 2025 an einer von der Firma JBL organisierten Reise teilnehmen konnte. In Form von eindrucksvollen Bildern und Videosequenzen berichtet er unter dem Titel \n„Peru 2025 – Eine aquaristische Reise zwischen Regenwaldflüssen und Anden“ \nvon dieser Reise. Wir freuen uns auf zahlreiche Teilnehmer. \nStefan Pierdzig\, stellv. Obmann DCG-OWL lädt Sie zu einem geplanten Zoom-Meeting ein. \n—– \nThema: Cichlidenstammtisch Dejon – Peru-Reise 2025\nZeit: 22. Apr. 2026 19:30\nAn Zoom-Meeting teilnehmen\nhttps://us06web.zoom.us/j/88397256537?pwd=aEb8kVVK3JEBzG3b2dR0COK4g6LOdb.1 \nMeeting-ID: 883 9725 6537\nKenncode: 992601
URL:https://dcg-online.de/event/dcg-cichlidenstammtisch-mit-einem-vortrag-von-tobias-dejon-peru-2025-eine-aquaristische-reise-zwischen-regenwaldfluessen-und-anden/
LOCATION:Online per Videokonferenz\, - mit Videokonferenzsoftware zoom
CATEGORIES:Termine DCG,Videokonferenz
ATTACH;FMTTYPE=image/png:https://dcg-online.de/wp-content/uploads/2026/03/04-Tobias-Dejon-Peru-1500-klein.png
ORGANIZER;CN="Deutsche Cichliden Gesellschaft e. V.%2C DCG":MAILTO:gf@dcg-online.de
END:VEVENT
END:VCALENDAR